BEGIN:VCALENDAR
VERSION:2.0
PRODID:-//INSPIRATION AND BIBLE REFLECTION - ECPv6.9.0//NONSGML v1.0//EN
CALSCALE:GREGORIAN
METHOD:PUBLISH
X-ORIGINAL-URL:https://inspirational.co.ke
X-WR-CALDESC:Events for INSPIRATION AND BIBLE REFLECTION
REFRESH-INTERVAL;VALUE=DURATION:PT1H
X-Robots-Tag:noindex
X-PUBLISHED-TTL:PT1H
BEGIN:VTIMEZONE
TZID:Africa/Nairobi
BEGIN:STANDARD
TZOFFSETFROM:+0300
TZOFFSETTO:+0300
TZNAME:EAT
DTSTART:20250101T000000
END:STANDARD
END:VTIMEZONE
BEGIN:VEVENT
DTSTART;VALUE=DATE:20251030
DTEND;VALUE=DATE:20251104
DTSTAMP:20260423T031626
CREATED:20251030T074244Z
LAST-MODIFIED:20251030T074518Z
UID:1955-1761782400-1762214399@inspirational.co.ke
SUMMARY:ALL SAINTS DAY AND ALL SOULS DAY
DESCRIPTION:1st November\nSOLEMNITY OF ALL SAINTS \n\nFirst reading: Revelation 7: 2-4\, 9-14\nPsalm: 24:1-6(Lord\, this is the people that longs to see your face)\n1st John 3:1-3\nGospel: Mathew 5: 1-12\n\n A Brief Homily\nToday\, on All Saints Day\, we honor the saints who followed God with love\, patience\, and faithfulness. The Gospel reminds us of the Beatitudes\, which show the path to true happiness and holiness. Saints embraced these teachings\, often facing trials yet remaining joyful in their hope for heaven. Revelation shows us a vision of countless people before God\, purified and filled with joy. St. John reminds us that we are God’s children\, called to live with love and hope. Today\, we’re invited to follow the saints’ example: to be humble\, kind\, and merciful\, seeking God’s face daily\, and trusting that we\, too\, are destined for heaven if we follow Him faithfully. \nInspiration Message\n\nSeek Humility and Kindness: Embrace humility and kindness\, as the saints did\, knowing these qualities lead us closer to God.\nTrust in God’s Promise: We are God’s children\, and He promises a place for us in heaven. Living in faith and hope brings us peace.\nBe Joyful in Trials: Like the saints\, find strength in God during hard times\, trusting that He will help us through.\nLive the Beatitudes Daily: Practicing the Beatitudes—being merciful\, pure-hearted\, and peaceful—helps us grow in holiness and love.\nDesire to See God’s Face: Long to know and love God more each day\, knowing that a close relationship with Him leads to eternal happiness.\n\nMorning Prayer\nLoving Father\, today I seek Your guidance to live with humility\, kindness\, and a pure heart. Help me trust in Your promises and find strength in You during hard times. Teach me to live the Beatitudes\, showing mercy\, peace\, and love to all. Fill me with a longing to know You more deeply and to see Your face one day. May my actions today reflect Your goodness and bring me closer to You. Amen.May the Almighty God Bless you\, the Father and the Son and the Holy Spirit. Amen \n2nd November \nALL SOULS DAY: The Commemoration of All the Faithful Departed\n\nFirst reading: Job 19:1\, 23-27\nPsalm: 27:1\, 4\, 7-9\, 13-14(The Lord is my shepherd; there is nothing I shall want.)\nSecond Reading: Romans 5:5-11\nGospel: Mathew 5:1-12\n\nA Brief Homily\nIn today’s readings\, we remember all the souls who have gone before us. Job reminds us of the hope we have in God: that even after death\, we shall see God with our own eyes. This hope gives us peace\, knowing that death is not the end. St. Paul\, too\, speaks of God’s great love for us\, shown through Jesus who died for us. Through this sacrifice\, we are offered eternal life. The Beatitudes in the Gospel highlight the blessings for those who seek God\, mourn\, or strive for peace and mercy. Today\, let’s pray for the souls of all who have passed\, trusting they are in God’s care\, and let’s live with hope\, striving to be people of peace and mercy. \n Inspiration Message\n\nLive with Hope in Eternal Life – Like Job\, remember that life doesn’t end with death; we have hope in seeing God face-to-face.\nTrust in God’s Unfailing Love – Even in hardships\, God’s love is constant\, as Jesus showed through His sacrifice for us.\nPray for the Deceased – Pray for all souls who have passed\, trusting they are in God’s loving care.\nSeek God in All Things – The Beatitudes remind us to live humbly\, mercifully\, and peacefully\, as these actions draw us closer to God.\nEmbrace God’s Blessings – God promises blessings for those who mourn\, seek peace\, and show mercy\, so live each day with compassion and kindness.\n\nMorning Prayer\nLoving God\, thank You for the gift of this new day. Help me to live with hope\, trusting in Your unfailing love. May I remember those who have passed\, praying for their peace in Your presence. Guide my actions to reflect humility\, mercy\, and kindness as I seek You in all things. Fill my heart with compassion and joy\, that I may be a blessing to others. Stay close to me\, Lord\, now and always. Amen. May the Almighty God Bless you\, the Father and the Son and the Holy Spirit. Amen \nAnother option of reading  \n\nFirst Reading: Job 19:1\, 23–27b\nPsalm: 23:1–3\, 4\, 5\, 6 — “The Lord is my shepherd; there is nothing I shall want.”\nSecond Reading: Romans 5:5–11\nGospel: Matthew 5:1–12\n\nA Brief Homily\nToday we remember all the faithful departed — those who have gone before us marked with the sign of faith. Job reminds us that even in suffering\, our Redeemer lives and will one day raise us up. St. Paul assures us that Christ died for us while we were still sinners\, proving God’s endless mercy. The Beatitudes in the Gospel remind us that heaven awaits those who lived with faith\, humility\, and love. Death is not the end but a doorway to eternal life. Let us live with hope and charity\, praying for our loved ones still on their journey to heaven. \nInspirational Insights\n\nHope Beyond the Grave: Death does not end our story; it opens the chapter of eternal life with God. Let us live with this joyful hope every day.\nPower of Prayer for the Departed: Our prayers help souls on their journey to heaven. Remembering them strengthens our connection with the Communion of Saints.\nFaith in the Redeemer: Like Job\, even in pain and loss\, we proclaim: “I know my Redeemer lives!” Our faith must remain steadfast in suffering.\nCall to Live the Beatitudes: The blessed life begins here — mercy\, purity\, peace\, and righteousness prepare us for the joy of heaven.\nLive in Reconciliation and Love: Forgive\, love\, and reconcile with others daily\, for in doing so we prepare our souls for eternal peace.\n\nMorning Prayer\nHeavenly Father\, we thank You for the gift of eternal life promised through Your Son\, Jesus Christ. Today we remember all our departed loved ones—grant them rest\, peace\, and the joy of seeing Your face. Strengthen our faith in the resurrection and help us live each day with hope\, mercy\, and love. May our lives reflect the Beatitudes\, leading us closer to You until we meet again in Your kingdom. Through Christ our Lord. Amen. May the Almighty God Bless you\, the Father and the Son and the Holy Spirit. Amen
URL:https://inspirational.co.ke/inspiration/all-saint-day-and-all-souls-day/
CATEGORIES:Daily Post
END:VEVENT
BEGIN:VEVENT
DTSTART;VALUE=DATE:20251113
DTEND;VALUE=DATE:20251118
DTSTAMP:20260423T031626
CREATED:20251113T061133Z
LAST-MODIFIED:20251113T061133Z
UID:1959-1762992000-1763423999@inspirational.co.ke
SUMMARY:THURSDAY OF 32ND WEEK TO SUNDAY 33RD WEEK
DESCRIPTION:THURSDAY OF THE THIRTY-SECOND WEEK IN ORDINARY TIME – YEAR C\n\nFirst reading: Wisdom 7:22-8:1\nPsalm: 119: 89-91\, 130\, 135\, 175 (Forever is your word\, O Lord.)\nGospel: Luke 17: 20-25\n\n A Brief Homily\nIn today’s readings\, we are reminded that true wisdom comes from God and fills everything with goodness and order. The Book of Wisdom tells us that God’s wisdom is gentle\, loving\, and powerful—it guides the world and the hearts of those who seek it. The Psalm reminds us that God’s word stands firm forever; His promises never fail. In the Gospel\, Jesus teaches that the Kingdom of God is not something to look for in the sky or far away—it is already among us\, alive in our hearts when we live with love\, justice\, and faith. Let us open our hearts to God’s wisdom so that His Kingdom may shine through our actions every day. \n Inspiration Message\n\nSeek God’s Wisdom Daily – True wisdom comes from God. Pray for understanding before making decisions and let His Spirit guide your thoughts and actions.\nTrust in God’s Word – God’s promises never fail. Read the Bible often and believe that His Word will strengthen and guide you in every situation.\nLive the Kingdom Now – The Kingdom of God is already within us. Show love\, kindness\, and fairness in your daily life; that’s how God’s Kingdom grows on earth.\nLet Your Actions Reflect Faith – Live in a way that others can see God through you. Be honest\, humble\, and forgiving.\nStay Hopeful and Prayerful – Even when life feels dark\, remember that God’s wisdom brings light\, peace\, and direction to those who trust in Him.\n\n Morning Prayer\nLoving God\, thank You for this new day. Fill my heart with Your wisdom and guide my thoughts\, words\, and actions. Help me to trust in Your Word and to live as a true child of Your Kingdom. Teach me to love\, forgive\, and bring peace wherever I go. Let Your light shine through me today so that others may see Your goodness. Stay with me\, Lord\, and bless all my plans. Amen. May the Almighty God Bless you\, the Father and the Son and the Holy Spirit. Amen \nFRIDAY OF THE THIRTY-SECOND WEEK IN ORDINARY TIME – YEAR C\n\nFirst reading: Wisdom 13: 1-9\nPsalm: 19: 2-5 (The heavens declare the glory of God)\nGospel: Luke 17: 26-37\n\nA Brief Homily\nToday’s readings remind us to open our eyes to God’s presence in creation and in our daily lives. The Book of Wisdom tells us that the beauty of the world points to its Creator. When we see the sun\, stars\, and all nature\, we should recognize the hand of God who made them. Yet many people admire creation but forget the Creator.  In the Gospel\, Jesus warns that life can change suddenly—just as in the days of Noah and Lot. People were busy with ordinary things and ignored God’s call. Let us not be distracted by worldly pleasures. Instead\, let us stay ready\, faithful\, and aware that God is always near\, guiding us toward eternal life. \n Inspiration Message\n\nSee God in Creation – Every part of nature shows God’s power and beauty. When you look at the sky\, trees\, or stars\, remember to thank the Creator.\nDon’t Forget the Giver – Enjoy the good things of life\, but never forget the One who gives them. Always honor God above His gifts.\nStay Spiritually Awake – Life can change at any moment. Be ready by living in friendship with God each day.\nChoose Faith Over Distraction – Don’t let worldly pleasures or worries make you forget what truly matters—your relationship with God.\nLive with Eternal Hope – Remember that this world is temporary. Keep your heart fixed on heaven and live in a way that prepares you for eternal life.\n\n Morning Prayer\nHeavenly Father\, thank You for the beauty of creation that reminds me of Your power and love. Help me to see You in all things and never forget that You are the Giver of every good gift. Keep me awake in faith and free from distractions that lead me away from You. Strengthen my hope in eternal life and guide my words and actions today\, so that I may live to please You. Amen. May the Almighty God Bless you\, the Father and the Son and the Holy Spirit. Amen \n SATURDAY OF THE THIRTY-SECOND WEEK IN ORDINARY TIME – YEAR C\n\nFirst reading: Wisdom 18: 14-16; 19: 6-9\nPsalm: 105: 2-3\, 36-37\, 42-43 (Remember the Wonders the Lord has done)\nGospel: Luke 18: 1-8\n\nA Brief Homily\nToday’s readings remind us that God’s power and faithfulness never fail. In the Book of Wisdom\, we hear how God rescued His people from slavery and made a dry path through the sea. God’s wonders show that He is always near to those who trust Him. The Psalm calls us to remember these mighty deeds with joy and gratitude. In the Gospel\, Jesus tells the story of a widow who never gave up asking for justice. Her persistence won her answer. God invites us to pray like her—with faith that never tires. Even when answers seem delayed\, God listens and acts in His perfect time. Let us keep praying\, believing\, and trusting in the Lord who always saves and cares for us. \n Inspiration Message\n\nRemember God’s Past Wonders – Think often about how God has helped you before; it strengthens your faith for today’s challenges.\nTrust in God’s Power – No situation is too hard for God. He can make a way even where there seems to be none.\nPray Without Giving Up – Like the widow\, keep praying with faith and patience. God always hears\, even when answers delay.\nBe Joyful and Thankful – Praise God for His goodness every day. Gratitude keeps your heart strong in faith.\nLive with Hope – God is faithful. Stay hopeful in hard times\, knowing He will act at the right time for your good.\n\n Morning Prayer\nLoving Father\, thank You for this new day and for all the wonders You have done in my life. Help me to remember Your goodness and to trust in Your power always. Teach me to pray without giving up\, believing that You hear me in Your perfect time. Fill my heart with joy\, gratitude\, and hope. Guide my steps today\, and let my life show Your love and faithfulness to others. Amen. May the Almighty God Bless you\, the Father and the Son and the Holy Spirit. Amen \n THIRTY-THIRD SUNDAY IN ORDINARY TIME – YEAR C\n\nFirst Reading: Malachi 4:1-2a\nPsalm: 98:5-9 (The Lord comes to rule the earth with justice.)\nSecond Reading: 2 Thessalonians 3:7-12\nGospel: Luke 21:5-19\n\nA Brief Homily\nJesus warns His disciples that trials\, persecution\, and even destruction will come\, but His followers should not lose hope. He promises\, “Not a hair of your head will perish. By your perseverance you will secure your lives.” The prophet Malachi speaks of the day of the Lord as a day of justice: evil will be destroyed\, and the faithful will find healing in God’s presence. Paul reminds us that Christian life is not about idleness but about active\, responsible living. Our hope is not shaken by fear but strengthened by trust in God’s saving power.\nInspirational Message:\n\nPersevere in faith – Jesus assures us that endurance through trials leads to life. Hardships are not signs of defeat but paths to victory.\nLive responsibly – St. Paul challenges us to avoid idleness. True discipleship means working faithfully\, serving others\, and being accountable before God.\nDo not fear the future – The day of the Lord is not for fear but for hope\, because God’s justice will bring peace and healing to His faithful people.\nWitness with courage – Jesus says persecution will provide an opportunity to testify. Every challenge is a chance to stand boldly for Christ.\nJustice will prevail – Evil may seem powerful now\, but God’s judgment is certain. Trust that His righteousness will overcome injustice and restore all things.\n\nMorning Prayer\nLord Jesus\, You are my strength in times of trial. As I begin this day\, grant me courage to persevere in faith and to live responsibly in love and service. Remove fear from my heart and fill me with the hope of Your justice and peace. Help me to witness boldly to Your truth and to trust that You will guard me in every struggle. May my life today reflect my faith in You. Amen. May the Almighty God Bless you\, the Father and the Son and the Holy Spirit. Amen
URL:https://inspirational.co.ke/inspiration/thursday-of-32nd-week-to-sunday-33rd-week/
CATEGORIES:Daily Post
END:VEVENT
END:VCALENDAR