BEGIN:VCALENDAR
VERSION:2.0
PRODID:-//INSPIRATION AND BIBLE REFLECTION - ECPv6.9.0//NONSGML v1.0//EN
CALSCALE:GREGORIAN
METHOD:PUBLISH
X-ORIGINAL-URL:https://inspirational.co.ke
X-WR-CALDESC:Events for INSPIRATION AND BIBLE REFLECTION
REFRESH-INTERVAL;VALUE=DURATION:PT1H
X-Robots-Tag:noindex
X-PUBLISHED-TTL:PT1H
BEGIN:VTIMEZONE
TZID:Africa/Nairobi
BEGIN:STANDARD
TZOFFSETFROM:+0300
TZOFFSETTO:+0300
TZNAME:EAT
DTSTART:20240101T000000
END:STANDARD
END:VTIMEZONE
BEGIN:VEVENT
DTSTART;VALUE=DATE:20241226
DTEND;VALUE=DATE:20241227
DTSTAMP:20260420T203152
CREATED:20241226T095407Z
LAST-MODIFIED:20241226T095817Z
UID:1387-1735171200-1735257599@inspirational.co.ke
SUMMARY:26 December\, 2024
DESCRIPTION:Heavenly Father\, on this special day\, I give you praise for the gift of an extra day to honor and serve you. Help me to make the most of this time by living in accordance with your will. Grant me the grace to forgive\, to love deeply\, and to act justly in all things. Let your Spirit guide my thoughts and words so that I may bring comfort and hope to those in need. Thank you for the gift of your presence in my life. May this day bring me closer to you. I ask this through Christ our Lord. Amen.
URL:https://inspirational.co.ke/inspiration/26-prayer/
CATEGORIES:Daily Prayer
END:VEVENT
BEGIN:VEVENT
DTSTART;VALUE=DATE:20241220
DTEND;VALUE=DATE:20241221
DTSTAMP:20260420T203152
CREATED:20241220T074054Z
LAST-MODIFIED:20241220T075134Z
UID:1264-1734652800-1734739199@inspirational.co.ke
SUMMARY:Prayer: 20th December 2024
DESCRIPTION:Heavenly Father\, in my life I experience people being nasty to me. Today if someone should be nasty\, help me to be courteous in return. I meet people who are unkind to me: today if I meet any such\, help me to be kind to them in return and when an occasion arises\, help me to generously assist them in their needs. Lord\, today when I meet people who hurt me\, insult me\, ignore me or even injure me\, help me to forgive them as Jesus did in a much worse situation – hanging on the cross. This is difficult\, Lord. But it must have been even more difficult for Jesus. If I love you\, I know I will not find it so difficult. Then help me to love you so. I ask this through Christ our Lord. Amen.
URL:https://inspirational.co.ke/inspiration/20th-december-2024/
CATEGORIES:Daily Prayer
END:VEVENT
END:VCALENDAR