BEGIN:VCALENDAR
VERSION:2.0
PRODID:-//INSPIRATION AND BIBLE REFLECTION - ECPv6.9.0//NONSGML v1.0//EN
CALSCALE:GREGORIAN
METHOD:PUBLISH
X-WR-CALNAME:INSPIRATION AND BIBLE REFLECTION
X-ORIGINAL-URL:https://inspirational.co.ke
X-WR-CALDESC:Events for INSPIRATION AND BIBLE REFLECTION
REFRESH-INTERVAL;VALUE=DURATION:PT1H
X-Robots-Tag:noindex
X-PUBLISHED-TTL:PT1H
BEGIN:VTIMEZONE
TZID:Africa/Nairobi
BEGIN:STANDARD
TZOFFSETFROM:+0300
TZOFFSETTO:+0300
TZNAME:EAT
DTSTART:20250101T000000
END:STANDARD
END:VTIMEZONE
BEGIN:VEVENT
DTSTART;VALUE=DATE:20250827
DTEND;VALUE=DATE:20250831
DTSTAMP:20260423T100034
CREATED:20250828T074805Z
LAST-MODIFIED:20250828T081522Z
UID:1914-1756252800-1756598399@inspirational.co.ke
SUMMARY:MEMORIAL OF ST. MONICA AND ST. AUGUSTINE &THE PASSION OF ST. JOHN THE BAPTIST
DESCRIPTION:MEMORIAL OF ST. MONICA (27-AUGUST)\nREADINGS OF WEDNESDAY OF THE TWENTY-FIRST WEEK IN ORDINARY TIME\n\nFirst reading: 1 Thessalonians 2: 9-13\nPsalm: 139: 7-12 (O Lord\, you search me and you know me)\nGospel: Matthew 23: 27-32\n\nA Brief Homily\nToday we remember St. Monica\, a woman of great faith and prayer. In the first reading\, Paul reminds us to live holy lives and hold on to God’s word\, which works in our hearts. The Gospel warns against being holy only on the outside but empty inside. St. Monica teaches us that real holiness is found in prayer\, patience\, and trust in God. For many years\, she prayed for the conversion of her son\, St. Augustine\, and God answered. Let us learn to trust God\, pray without ceasing\, and allow His word to shape our lives daily. \n Inspiration Message\n\nLive true holiness – Do not only appear good on the outside; let your heart and actions be guided by God’s word.\nTrust in prayer – Like St. Monica\, never give up praying\, even if answers seem delayed.\nLet God’s word guide you – The Word of God has power to change hearts and lives.\nBe patient in faith – God’s timing is perfect; remain steadfast.\nPray for others – Our prayers can bring healing and conversion to those we love.\n\nMorning Prayer\nLoving Father\, I thank You for the gift of this new day. Help me to live with a pure heart\, not just outward appearances. Like St. Monica\, give me patience and strength to pray without giving up\, especially for those I love. May Your Word guide my thoughts\, words\, and actions. Teach me to trust Your timing and to spread love and faith in all I do today. Amen. May the Almighty God Bless you\, the Father and the Son and the Holy Spirit. Amen \nShort Biography of St. Monica (For more detailed contact me)\nSt. Monica was born around 331 AD in Tagaste\, North Africa\, into a Christian family. As a young woman\, she married Patricius\, a pagan Roman official with a difficult character. Though he often mistreated her\, Monica remained patient\, prayerful\, and faithful. Her prayers bore fruit when Patricius converted to Christianity before his death. \nMonica had three children\, the most famous being Augustine. In his youth\, Augustine lived a worldly life\, followed false teachings\, and resisted the faith of his mother. For 17 years\, Monica prayed with tears\, fasting\, and unwavering faith for his conversion. She never gave up hope\, believing God would answer her prayers. \nHer persistence was rewarded when Augustine encountered St. Ambrose in Milan. Deeply moved\, he converted to Christianity and was baptized at the Easter Vigil in 387 AD\, together with his son Adeodatus. This was the greatest joy of Monica’s life. \nSoon after\, while preparing to return to Africa\, Monica fell ill and died peacefully on August 27\, 387 AD\, in Ostia\, Italy. She is remembered as a model of Christian motherhood\, patience\, and prayer. Her feast is celebrated every year on August 27\, and she is the patron of all mothers who pray for their families. \nMEMORIAL OF ST. AUGUSTINE OF HIPPO (28-AUGUST)\nREADINGS OF THURSDAY OF THE TWENTY-FIRST WEEK IN ORDINARY TIME\n\nFirst reading: 1 Thessalonians 3: 7-13\nPsalm: 90:3-4\, 12-14\, 17 (Fill us with your love that we may rejoice\,)\nGospel: Mathew 24:42-51\n\nA Brief Homily\nToday we remember St. Augustine\, a great sinner who became a great saint because he allowed God’s grace to change him. In the first reading\, St. Paul reminds us that God’s word works in those who believe. Augustine is a living example—he searched for happiness everywhere but found it only in God. The Gospel warns us not to look holy outside but be empty inside. Augustine teaches us to be honest with God\, seek His mercy\, and allow His love to renew our hearts daily. \n Inspiration Message\n\nGod’s Word changes lives – Like Augustine\, when we accept God’s Word with faith\, it transforms our hearts and directs us to truth.\nTrue happiness is in God – Augustine searched everywhere but discovered only God can satisfy our hearts.\nBe real\, not fake – The Gospel warns us against being holy only on the outside. God wants sincerity inside and out.\nNever give up on God’s mercy – Augustine’s conversion reminds us it’s never too late to change.\nLet God’s love guide your life – Daily surrender brings peace\, wisdom\, and strength.\n\n Morning Prayer\nLord\, you know me and search my heart. Like St. Augustine\, I seek true joy in You alone. Keep me from pretending holiness\, and instead fill me with sincere love and faith. When I fall\, remind me of Your endless mercy and give me courage to rise again. Guide my thoughts\, words\, and actions today\, that I may live honestly\, love deeply\, and walk faithfully in Your light. Amen. May the Almighty God Bless you\, the Father and the Son and the Holy Spirit. Amen \nShort Biography of St. Augustine of Hippo (For more detailed contact me)\nSt. Augustine of Hippo was born on November 13\, 354 AD in Tagaste\, North Africa. His mother\, St. Monica\, was a devout Christian\, while his father\, Patricius\, was a pagan. As a young man\, Augustine was intelligent and talented\, but he lived a worldly life of pleasures and followed the false teachings of Manichaeism. \nWhile studying and later teaching rhetoric in Carthage\, Rome\, and Milan\, Augustine felt empty inside. In Milan\, through the preaching of St. Ambrose\, he discovered the truth of the Catholic faith. In 386 AD\, he experienced his famous conversion after reading Romans 13:13–14\, where St. Paul calls us to “clothe ourselves with the Lord Jesus Christ.” Deeply moved\, Augustine gave his life to God and was baptized by St. Ambrose at Easter 387\, together with his son Adeodatus. \nBack in Africa\, Augustine was ordained priest in 391 AD and later became Bishop of Hippo in 395\, serving faithfully until his death. He wrote many great works\, including Confessions and The City of God\, defending the faith and guiding Christians. He died on August 28\, 430 AD\, during the Vandal siege of Hippo. His feast is celebrated on August 28. \n29TH AUGUST \nTHE PASSION OF ST. JOHN THE BAPTIST (Memorial)\n\nFirst reading: Jeremiah 1: 17-19\nPsalm: 71:1-6\, 15\, 17 (My mouth will tell of your salvation\, Lord.)\nGospel: Mark 6:17-29\n\n A Brief Homily \nToday we remember the courage of St. John the Baptist\, who gave his life for the truth. Jeremiah reminds us not to fear when we stand for God\, because the Lord is with us. John spoke boldly against sin\, even when it cost him his life. The Gospel shows us that faithfulness to God may bring suffering\, but it also brings eternal reward. As Christians\, we are called to be fearless witnesses of truth\, love\, and justice in our families\, workplaces\, and society. \nInspiration Message\n\nStand for the truth – Like John\, never be afraid to speak what is right\, even when it is difficult.\nTrust in God’s strength – God promised Jeremiah that He would be with him. God is with us too.\nBe faithful\, not fearful – True discipleship may bring challenges\, but God never abandons His children.\nLive with integrity – Our words and actions should always reflect Christ.\nLook to eternal reward – Earthly suffering is temporary; heaven is our lasting home\n\nMorning Prayer\nLord God\, thank You for the gift of this new day. Like St. John the Baptist\, give me courage to speak the truth with love\, even when it is difficult. Strengthen my faith so I may trust in Your protection. Keep my heart pure\, my words honest\, and my actions faithful to Christ. Help me live with integrity and always look to heaven as my true home. Amen. May the Almighty God Bless you\, the Father and the Son and the Holy Spirit. Amen \nShort Biography of St. John the Baptist (For more detailed contact me)\nSt. John the Baptist was born around 5–6 BC to Zechariah and Elizabeth\, after the Angel Gabriel announced his birth (Luke 1:13–17). He was filled with the Holy Spirit from his mother’s womb and leapt with joy when Mary\, pregnant with Jesus\, visited Elizabeth (Luke 1:39–44). His birth is celebrated on June 24\, six months before Christmas. \nJohn lived in the wilderness\, clothed in camel’s hair and eating locusts and honey (Mark 1:6). He preached repentance and baptized people in the Jordan River\, preparing the way for the Messiah (Matthew 3:1–12). When Jesus came to him\, John baptized Him\, and the Spirit descended upon Christ (Matthew 3:13–17). With humility\, John declared: “He must increase\, but I must decrease” (John 3:30). \nJohn boldly spoke the truth\, even rebuking King Herod for his unlawful marriage. Because of this\, he was imprisoned and later beheaded around 30–32 AD at the request of Herodias’ daughter (Mark 6:17–29). His disciples buried him and told Jesus of his death (Matthew 14:12). \nThe Church honors John as the forerunner of Christ\, a prophet of courage\, humility\, and truth. His Nativity is June 24\, and his Passion is August 29
URL:https://inspirational.co.ke/inspiration/st-monica-st-augustine-jb-passion/
CATEGORIES:Daily Post
END:VEVENT
BEGIN:VEVENT
DTSTART;VALUE=DATE:20250830
DTEND;VALUE=DATE:20250904
DTSTAMP:20260423T100035
CREATED:20250830T015951Z
LAST-MODIFIED:20250830T015951Z
UID:1920-1756512000-1756943999@inspirational.co.ke
SUMMARY:DAILY REFLECTIONS AND INSPIRATIONS
DESCRIPTION:SATURDAY OF THE TWENTY-FIRST WEEK IN ORDINARY TIME\n\nFirst reading: 1 Thessalonians 4: 9-11\nPsalm: 98:1\, 7-9 (The Lord comes to rule the earth with justice.)\nGospel:  Mathew 25: 14-30\n\nA Brief Homily\nToday’s readings remind us that true Christian living is shown in love\, justice\, and responsibility. St. Paul teaches us to love one another and live quietly\, working with our own hands. The Gospel tells us of the talents—gifts God has given us to use well. We are not called to hide them\, but to serve others with them. God expects us to bear fruit in love\, justice\, and goodness. On the last day\, He will ask how we lived. Let us be faithful\, use our gifts wisely\, and love sincerely. \nInspiration Message\n\nLove others daily – show kindness and care in your words and actions.\nWork honestly – use your skills and effort to live in a way that pleases God.\nUse your gifts – do not hide what God gave you\, share your talents to help others.\nLive justly – treat people with fairness and respect.\nBe faithful – stay true to God in small and big things\, so you may bring joy to Him.\n\nMorning Prayer\nLoving Father\, I thank You for the gift of this new day. Help me to love others with kindness and work honestly in all I do. Teach me to use my talents wisely\, not to hide them\, but to share them for Your glory and the good of others. Guide me to live justly\, treating everyone with fairness. Keep me faithful in little and great things\, so I may bring joy to You. Amen. May the Almighty God Bless you\, the Father and the Son and the Holy Spirit. Amen \n TWENTY SECOND SUNDAY IN ORDINARY TIME\n\nFirst reading: Sirac 3:17-18\, 20\, 28-29\nPsalm: 68:4-7\, 10-11 (God\, in your goodness\, you have made a home for the poor.)\nSecond Reading: Hebrew 12:18-19\, 22-24\nGospel: Luke 14: 1\, 7-14\n\nA Brief Homily\nToday’s readings remind us that humility is the key to God’s heart. Sirach tells us\, “The greater you are\, the more you must humble yourself.” True greatness is not in pride but in serving others with gentleness. In the Gospel\, Jesus teaches us not to seek the highest seat but to choose the lowest\, for God will raise the humble. The Letter to the Hebrews shows us that we are part of a holy gathering with Jesus as our mediator. God’s home is for the poor\, the weak\, and the humble of heart. Let us live with simplicity\, kindness\, and service\, knowing that in God’s kingdom\, the humble will always be exalted. \n Inspiration Message\n\nChoose humility daily – do not boast of your achievements; let your actions speak quietly for God’s glory.\nServe others with love – greatness is found in helping and lifting others\, not in seeking honor.\nBe content with simplicity – learn to be happy with little\, trusting God’s care.\nRespect the poor and weak – they hold a special place in God’s kingdom.\nTrust God to exalt you – when you stay humble\, God Himself will lift you at the right time.\n\nMorning Prayer\nHeavenly Father\, I thank You for the gift of this new day. Teach me to walk in humility\, to serve others with love\, and to trust in Your care. Keep me content in simplicity and open my heart to respect and honor the poor and weak. May I never seek pride or glory for myself but allow You\, O Lord\, to lift me up in Your time. Through Christ our Lord. Amen. May the Almighty God Bless you\, the Father and the Son and the Holy Spirit. Amen \n MONDAY OF THE TWENTY-SECOND WEEK IN ORDINARY TIME\n\nFirst reading: 1 Thessalonians 4: 13-18\nPsalm: 96:1\, 3-5\, 11-13 (The Lord comes to judge the earth.)\nGospel: Luke 4: 16-30\n\nA Brief Homily\nIn the first reading\, Paul reminds us not to lose hope when loved ones die\, for in Christ\, the dead will rise\, and we shall be with Him forever. This gives us strength and comfort in our faith. The Gospel shows Jesus in His hometown\, where He was rejected by those who thought they knew Him. Sometimes\, we too may face rejection for living our faith\, even from those close to us. But like Jesus\, we are called to remain faithful and trust God’s plan. Let us keep our hope alive\, live with courage\, and proclaim the Good News with love\, knowing that the Lord will come to judge the earth with justice. \n Inspiration Message\n\nLive with hope – Death is not the end; in Christ we will rise again.\nStay faithful even in rejection – Like Jesus\, don’t give up when people don’t accept your faith.\nTrust God’s plan – Even when things don’t go as we expect\, God’s plan is greater.\nProclaim the Good News – Share Christ with love\, not fear\, even in small ways.\nLook forward with joy – The Lord will come again to bring justice and eternal life.\n\nMorning Prayer\nLoving Father\, I thank You for the gift of this new day. Fill my heart with hope\, knowing that in Christ death has no power over me. Strengthen me to remain faithful\, even when I face rejection or challenges. Help me to trust in Your plan and to share Your Good News with love. May I live today with joy\, awaiting the day when You will come to bring justice and eternal life. Amen. May the Almighty God Bless you\, the Father and the Son and the Holy Spirit. Amen \n TUESDAY OF THE TWENTY-SECOND WEEK IN ORDINARY TIME\n\nFirst reading: 1 Thessalonians 5:1-6\, 9-11\nPsalm: 27: 4\, 13-14 (I believe that I shall see the good things of the Lord in the land of the living.)\nGospel: 4: 31-37\n\nA Brief Homily\nToday’s readings remind us to live as children of the light. St. Paul tells us that we must stay awake and not live in darkness\, because God created us for salvation\, not for destruction. In the Gospel\, Jesus shows His authority by driving out an unclean spirit. Evil has no power before Him. As Christians\, we are called to trust in Christ’s power and not to fear. The Psalm encourages us to remain confident\, believing we will see the goodness of the Lord in our lives. Let us walk in faith\, encourage one another\, and stay watchful\, so that when Christ comes\, He may find us faithful\, strong\, and ready to share in His eternal victory. \nInspiration Message\n\nLive in the light – Do good\, avoid sin\, and let your life reflect God’s truth.\nStay awake in faith – Be alert in prayer and avoid laziness in spiritual life.\nTrust Jesus’ power – Evil has no final say; Christ is stronger than any darkness.\nEncourage one another – Support fellow Christians in hope and love\, not in judgment.\nBe ready for Christ – Live every day as if Jesus may come today\, with a joyful heart.\n\nMorning Prayer\nLord Jesus\, I thank You for this new day. Help me to live in Your light and stay awake in faith. Protect me from the darkness of sin and give me courage to trust in Your power. Teach me to encourage others with love and hope. May my words and actions today prepare me to welcome You with joy. Stay with me\, Lord\, and guide me always. Amen. May the Almighty God Bless you\, the Father and the Son and the Holy Spirit. Amen
URL:https://inspirational.co.ke/inspiration/daily-reflections-and-inspirations/
CATEGORIES:Daily Post
END:VEVENT
END:VCALENDAR