BEGIN:VCALENDAR
VERSION:2.0
PRODID:-//INSPIRATION AND BIBLE REFLECTION - ECPv6.9.0//NONSGML v1.0//EN
CALSCALE:GREGORIAN
METHOD:PUBLISH
X-ORIGINAL-URL:https://inspirational.co.ke
X-WR-CALDESC:Events for INSPIRATION AND BIBLE REFLECTION
REFRESH-INTERVAL;VALUE=DURATION:PT1H
X-Robots-Tag:noindex
X-PUBLISHED-TTL:PT1H
BEGIN:VTIMEZONE
TZID:Africa/Nairobi
BEGIN:STANDARD
TZOFFSETFROM:+0300
TZOFFSETTO:+0300
TZNAME:EAT
DTSTART:20250101T000000
END:STANDARD
END:VTIMEZONE
BEGIN:VEVENT
DTSTART;VALUE=DATE:20250410
DTEND;VALUE=DATE:20250414
DTSTAMP:20260424T234525
CREATED:20250410T055524Z
LAST-MODIFIED:20250410T055524Z
UID:1882-1744243200-1744588799@inspirational.co.ke
SUMMARY:THURSDAY TO SATURDAY OF THE FIFTH WEEK OF LENT
DESCRIPTION:THURSDAY OF THE FIFTH WEEK OF LENT\n\nFirst reading: Genesis 17: 3-9\nPsalm: 105: 4-9 (The Lord remembers his covenant forever.)\nGospel: John 8: 51-59\n\nBrief Homily\nIn Genesis\, God makes a covenant with Abraham\, promising to bless him and his descendants. This shows God’s faithfulness and love for us. The Psalm reminds us that God always remembers His promises. In the Gospel\, Jesus tells us that if we keep His word\, we’ll never see death but have eternal life. This teaches us to trust Jesus and follow His teachings. Let’s remember God’s everlasting covenant\, trust in His promises\, and live according to Jesus’ words\, so we can have eternal life with Him. \nInspiration Message\n\nGod Keeps His Promises: Just as God made a covenant with Abraham\, He promises blessings and love to us today. Trust in God’s faithfulness.\nRemember God’s Covenant: The Psalm reminds us that God never forgets His promises. Rest assured that God always remembers His commitments to us.\nFollow Jesus’ Words: Jesus assures us in the Gospel that following His teachings leads to eternal life. Trust and obey His words for a fulfilling life.\nTrust in God’s Faithfulness: Reflect on God’s enduring love and faithfulness throughout history. Place your trust in His promises\, knowing He will never fail.\nLive with Eternal Perspective: Keep Jesus’ promise of eternal life in mind as you navigate daily challenges. Let the hope of eternity guide your decisions and actions.\n\nMorning Prayer\nDear God\, thank you for your promises of love and blessings\, just like you did with Abraham. Help us to remember that you never forget your commitments to us. Guide us to follow Jesus’ words\, knowing they lead to eternal life. We trust in your faithfulness and ask for strength to live with an eternal perspective today. Amen. May the Almighty God Bless you\, the Father and the Son and the Holy Spirit. Amen \nFRIDAY OF THE FIFTH WEEK OF LENT\n\nFirst reading: Jeremiah 20: 10-13\nPsalm: 18: 1-6 (In my anguish I called to the Lord\, and he heard me)\nGospel: John 10: 31-42\n\nBrief Homily\nToday\, we hear Jeremiah speaking from his heart\, feeling overwhelmed yet finding strength in the Lord. Even in tough times\, he trusts God’s plan. In the Psalm\, we echo this trust\, knowing God hears us in our distress. In the Gospel\, Jesus faces opposition but stands firm\, showing us to trust in Him\, the Good Shepherd. When we feel overwhelmed\, like Jeremiah\, let’s turn to God. He listens and guides us through challenges. Like Jesus\, let’s stay strong in our faith\, knowing God is with us always. Trust in Him brings peace amidst turmoil. \nInspiration Message\n\nTrust in God’s Plan: Just like Jeremiah\, even in tough times\, trust that God has a plan for us. He hears our cries and guides us through challenges.\nPrayer in Distress: When we feel overwhelmed\, like the Psalmist\, turn to prayer. God listens to our voices in distress and comforts us with His presence.\nStrength in Faith: Jesus faced opposition but stood firm in His faith. Let’s emulate His example\, staying strong in our faith even amidst trials.\nGod Listens: Remember that God hears our prayers\, as echoed in the Psalm. No matter the situation\, He is attentive to our needs and responds with love.\nPeace in Trust: Trusting in God brings peace. Like Jeremiah and Jesus\, entrust our worries to Him\, finding solace in His unfailing love and guidance.\n\n Morning Prayer\nDear God: Thank you for this new day. Help us trust in Your plan like Jeremiah\, finding strength in tough times. Hear our prayers in distress\, as You did for the Psalmist. Give us the courage to stand firm in our faith\, just like Jesus. May we find peace in trusting You\, knowing You hear our cries and guide us always. Amen. May the Almighty God Bless you\, the Father and the Son and the Holy Spirit. Amen \nSATURDAY OF THE FIFTH WEEK OF LENT\n\nFirst reading: Ezekiel 37: 21-28\nPsalm: Jeremiah 31: 10-13 (The Lord will keep us\, as a shepherd keeps his flock)\nGospel: John 11: 45-57\n\nBrief Homily\nToday\, Ezekiel speaks of God reuniting His people\, bringing them back to their land\, promising to be their God forever. In the Psalm\, we hear of God’s protective care\, likened to a shepherd guarding his flock. In the Gospel\, despite witnessing Jesus’ miracles\, some hardened their hearts. We’re reminded of God’s faithfulness\, His watchful care over us\, and the importance of recognizing His presence in our lives. Let’s open our hearts to God’s guidance and protection\, trusting Him to lead us through all circumstances. \n Inspiration Message\n\nGod’s Faithfulness: Like Ezekiel’s prophecy\, God remains faithful to His promises. He reunites His people and assures them of His everlasting presence.\nDivine Protection: The Psalm illustrates God’s protective care\, akin to a shepherd guarding his flock. We’re reminded of God’s watchful eye over us\, providing safety and security.\nRecognition of God’s Works: Despite witnessing miracles\, some in the Gospel remained hardened. It’s vital to recognize and appreciate God’s presence and blessings in our lives.\nTrusting God’s Guidance: Just as God guided His people\, we should trust in His guidance. His plans are for our good\, leading us to fulfillment and purpose.\nOpen Hearts to God: Let’s open our hearts to God’s love and care. By acknowledging His presence and following His lead\, we experience His faithfulness and find peace.\n\nMorning Prayer\nHeavenly Father\, As we begin this day\, we thank you for your faithfulness and love. Help us to trust in your promises\, knowing you protect us like a shepherd guards his flock. Open our eyes to see your works in our lives\, and soften our hearts to receive your guidance. May we walk in your ways\, recognizing your presence and finding peace in your care. Amen. May the Almighty God Bless you\, the Father and the Son and the Holy Spirit. Amen
URL:https://inspirational.co.ke/inspiration/thursday-to-saturday-of-the-fifth-week-of-lent/
CATEGORIES:Daily Post
END:VEVENT
END:VCALENDAR