BEGIN:VCALENDAR
VERSION:2.0
PRODID:-//INSPIRATION AND BIBLE REFLECTION - ECPv6.9.0//NONSGML v1.0//EN
CALSCALE:GREGORIAN
METHOD:PUBLISH
X-WR-CALNAME:INSPIRATION AND BIBLE REFLECTION
X-ORIGINAL-URL:https://inspirational.co.ke
X-WR-CALDESC:Events for INSPIRATION AND BIBLE REFLECTION
REFRESH-INTERVAL;VALUE=DURATION:PT1H
X-Robots-Tag:noindex
X-PUBLISHED-TTL:PT1H
BEGIN:VTIMEZONE
TZID:Africa/Nairobi
BEGIN:STANDARD
TZOFFSETFROM:+0300
TZOFFSETTO:+0300
TZNAME:EAT
DTSTART:20250101T000000
END:STANDARD
END:VTIMEZONE
BEGIN:VEVENT
DTSTART;VALUE=DATE:20250322
DTEND;VALUE=DATE:20250331
DTSTAMP:20260425T202916
CREATED:20250322T190012Z
LAST-MODIFIED:20250322T190241Z
UID:1878-1742601600-1743379199@inspirational.co.ke
SUMMARY:THIRD WEEK OF LENT
DESCRIPTION:THIRD SUNDAY OF LENT\n\nFirst reading: Exodus 3: 1-8\, 13-15\nPsalm:103: 1-4\, 6-8\, 11 (The Lord is compassionate and gracious)\nSecond reading: 1 Corinthians 10: 1-6\, 10-12\nGospel: Luke 13: 1-9\n\nA Brief Homily\nGod calls Moses from the burning bush\, reminding us that He hears our suffering and comes to save us. In the Gospel\, Jesus warns us not to judge others but to examine our own hearts. Like the fig tree given more time\, God gives us second chances to change. Paul reminds us that past blessings don’t guarantee future faithfulness — we must stay strong. Lent is a time to turn back to God\, to bear good fruit through love\, prayer\, and service. Let’s not waste the time He mercifully gives us. Today is the day to start anew! \nInspiration Message\n\nGod hears our suffering: Just as He heard the cries of the Israelites\, He listens to us and responds with love and mercy.\nGod gives second chances: Like the fig tree\, we are given time to change our ways and grow in holiness — let’s not waste it.\nLook at your own heart: Jesus reminds us to stop judging others and focus on improving ourselves.\nBlessings require faithfulness: Paul teaches that past blessings are not enough — we must stay faithful every day.\nLent is a call to action: Now is the time to repent\, grow\, and bear good fruit.\n\n Morning Prayer\nHeavenly Father\, thank You for hearing my prayers and giving me second chances. Help me to stop judging others and focus on changing my own heart. Strengthen my faith so I may stay faithful and bear good fruit in my life. Guide me this Lent to repent\, grow\, and become the person You created me to be. I trust in Your mercy and love\, now and always. Amen. May the Almighty God Bless you\, the Father and the Son and the Holy Spirit. Amen \n MONDAY OF THE THIRD WEEK OF LENT\n\nFirst reading:2 Kings 5: 1-15\nPsalm:42: 2-3; 43: 3-4 (My soul is thirsting for God\, the living God. When can I enter and appear before the face of God?)\nGospel: Luke 4: 24-30\n\nA Brief Homily\nToday’s readings speak of longing and rejection. In 1st Kings\, Solomon desires to build a temple for God\, highlighting our yearning to honor Him. The Psalmist’s thirst for God reflects our deep desire to be in His presence. Yet in Luke\, Jesus faces rejection in His hometown\, reminding us that even Christ experienced rejection. Despite this\, His mission continues. We\, too\, may face rejection or longing\, but like Solomon’s dedication and the Psalmist’s thirst\, let’s persist in seeking God\, trusting that He fulfills our deepest desires and guides us through every trial. \nInspiration Message\n\nDesire to Honor God: Like Solomon’s desire to build a temple for God\, let’s cultivate a longing to honor and serve Him in our lives.\nThirst for God’s Presence: Just as the Psalmist’s soul thirsts for God\, let’s yearn for a deeper connection with Him\, seeking His presence in prayer and worship.\nFacing Rejection: Jesus experienced rejection in His hometown\, reminding us that rejection may accompany our efforts to spread God’s love. But like Him\, let’s remain steadfast in our mission.\nPerseverance in Faith: Despite rejection or challenges\, let’s persevere in our faith journey\, trusting that God is with us and guiding us through every trial.\nFinding Fulfillment in God: Ultimately\, our deepest longings are fulfilled in God. Let’s seek Him earnestly\, knowing that He satisfies our souls and leads us to true fulfillment.\n\nMorning Prayer\nHeavenly Father\, Today\, we come to You with hearts longing to honor and serve You. Like Solomon\, may our desires reflect our commitment to Your kingdom. Quench our thirst for Your presence\, O Lord\, as the Psalmist yearned for You. Despite rejection or challenges\, grant us perseverance in our faith journey\, knowing that You fulfill our deepest longings. Guide us today and always. Amen. May the Almighty God Bless you\, the Father and the Son and the Holy Spirit. Amen \n25TH MARCH\nANNUNCIATION OF THE LORD\n\nFirst reading:  Isaiah 7:10-14; 8:10\nPsalm: (Here I am\, Lord; I come to do your will.)\nSecond Reading Hebrew 10:4-10\nGospel: Luke 1:26-38\n\n A Brief Homily\n\nToday\, we remember the special day when God sent an angel to Mary\, announcing she would give birth to Jesus. In Isaiah\, God promises a sign—a virgin conceiving a child\, fulfilling His plan. The Psalm echoes Mary’s response: “Here I am\, Lord; I come to do your will.” In Hebrews\, we learn Jesus came to do God’s will\, offering Himself for us. In Luke\, the angel tells Mary she will bear God’s son\, and she humbly accepts\, saying\, “Let it be done to me according to your word.” Like Mary\, let’s trust God’s plan and say yes to His will in our lives. \n Inspiration Message\n\nTrust God’s Plan: Just as Mary trusted God’s plan for her life\, we should trust that God has a plan for each of us. Even when things seem uncertain\, believe that God’s purpose will unfold in His perfect timing.\nBe Willing to Serve: Like Mary’s response\, “Here I am\, Lord\,” let’s be ready to say yes to God’s call to serve. Being open to God’s will allows us to participate in His work and experience His blessings.\nOffer Ourselves to God: Jesus offered Himself to fulfill God’s will\, and we’re called to do the same. Let’s offer our talents\, time\, and resources to God\, knowing that He can use them for His glory and the benefit of others.\nObey God’s Word: Mary’s obedience to the angel’s message teaches us to obey God’s word willingly. Let’s strive to align our actions with God’s teachings\, trusting that His guidance leads to blessings and fulfillment.\nEmbrace God’s Promises: Just as God fulfilled His promise to send a Savior through Mary\, we can trust in His promises for our lives. Hold onto God’s promises in Scripture\, knowing that He is faithful to fulfill them in His time and in His way.\n\nMorning Prayer\nHeavenly Father\, thank you for this new day. Help us to trust Your plan\, like Mary did\, and to say yes to Your will in our lives. Guide us to serve others willingly and offer ourselves to You wholeheartedly. May we obey Your word with joy\, knowing it leads to blessings. Help us to hold onto Your promises and walk in faith each day. Amen. May the Almighty God Bless you\, the Father and the Son and the Holy Spirit. Amen \nTUESDAY OF THE THIRD WEEK OF LENT\n\nFirst reading: Daniel 3:25\, 34-43\nPsalm: 25:4-5ab\, 6 and 7bc\, 8 and 9 (Remember your Mercy\, Lord.)\nGospel: Mathew 18:21-35\n\nA Brief Homily\nIn today’s readings\, we encounter themes of mercy and forgiveness. In Daniel\, we see the power of prayer and repentance\, as Azariah cries out for God’s mercy. The Psalmist echoes this plea\, reminding us of God’s abundant mercy. In Matthew\, Jesus teaches about forgiveness through the parable of the unforgiving servant. Just as the king shows mercy to his servant\, we’re called to forgive others as God forgives us. Let’s embrace God’s mercy in our lives and extend it to others\, knowing that through forgiveness\, we mirror God’s boundless love and grace. \nInspiration Message\n\nPower of Prayer and Repentance: Like Azariah in Daniel\, recognize the power of prayer and repentance in seeking God’s mercy and forgiveness.\nGod’s Abundant Mercy: Remember the Psalmist’s call to mind God’s abundant mercy\, knowing that He is always ready to forgive and extend grace to us.\nCall to Forgive: Jesus teaches in Matthew’s Gospel the importance of forgiveness through the parable of the unforgiving servant. Just as God forgives us\, we’re called to extend forgiveness to others.\nReflecting God’s Love: Embrace the practice of forgiveness as a way to mirror God’s boundless love and grace in our lives and relationships.\nLiving Mercy: Let’s actively live out God’s mercy by forgiving others\, seeking reconciliation\, and extending compassion to those around us.\n\nMorning Prayer\nHeavenly Father\, We come before you with hearts open to Your mercy and forgiveness. Like Azariah\, we seek Your grace through prayer and repentance. Thank you for Your abundant mercy\, as the Psalmist reminds us. Teach us to forgive as You forgive us\, as Jesus taught in Matthew’s Gospel. Help us reflect Your love and grace through acts of forgiveness and compassion. Guide us today to live out Your mercy in all we do. Amen. May the Almighty God Bless you\, the Father and the Son and the Holy Spirit. Amen \nWEDNESDAY OF THE THIRD WEEK OF LENT\n\nFirst reading: Deuteronomy 4: 1\, 5-9\nPsalm: 147: 12-16\, 19-20 (O Jerusalem\, glorify the Lord!)\nGospel: Matthew 5: 17-19\n\nA Brief Homily\nToday’s readings remind us of the importance of following God’s commandments and teachings. In Deuteronomy\, Moses urges the Israelites to heed God’s laws\, which bring life and wisdom. The Psalmist praises God for His word\, which He reveals to Israel. In Matthew\, Jesus affirms the significance of the Law and the Prophets\, emphasizing the importance of obedience and teaching others to do the same. Let’s cherish God’s commandments\, recognizing them as guides for righteous living\, and strive to follow them faithfully\, knowing that in doing so\, we honor God’s wisdom and bring glory to His name. \nInspiration Message\n\nHeeding God’s Commandments: Like Moses urged the Israelites\, let’s prioritize following God’s commandments\, recognizing their value in bringing wisdom and life to our souls.\nEmbracing God’s Word: As the Psalmist praises\, let’s cherish God’s word\, understanding its significance in revealing His truth and guiding our lives.\nRespecting God’s Law: Jesus affirms the importance of God’s Law and teachings. Let’s respect and honor them\, knowing they lead us to righteousness and obedience.\nLiving in Obedience: Strive to live in obedience to God’s commandments\, following Jesus’ example. By doing so\, we honor God’s wisdom and bring glory to His name.\nTeaching Others: Share the importance of God’s teachings with others\, as Jesus instructed. By teaching and encouraging others to follow God’s ways\, we spread His truth and love in the world.\n\n Morning Prayer\nHeavenly Father\, Today\, we thank You for Your commandments and teachings\, which guide us in wisdom and life. Help us cherish Your word and live in obedience to Your Law. May we honor Your wisdom and bring glory to Your name through our actions. Give us the strength to teach others about Your ways\, spreading Your truth and love. Guide us this day\, Lord\, as we seek to follow You faithfully. Amen.May the Almighty God Bless you\, the Father and the Son and the Holy Spirit. Amen \nTHURSDAY OF THE THIRD WEEK OF LENT\n\nFirst reading: Jeremah 7: 23-28\nPsalm: 95: 1-2\, 6-7\, 9 (O that today you would listen to his voice! Harden not your hearts)\nGospel: Luke 11: 14-23\n\nA Brief Homily\nIn today’s readings\, we’re called to listen to God’s voice and avoid hardening our hearts. Jeremiah reminds us of God’s desire for obedience over sacrifices. The Psalm urges us not to resist God’s call\, but to open our hearts to Him. In Luke\, Jesus warns against division\, declaring that a house divided against itself falls. Let’s heed these lessons: prioritize obedience\, soften our hearts to God’s voice\, and seek unity in Christ. By doing so\, we align ourselves with God’s will and build a foundation of faith that cannot be shaken. \nInspiration Message\n\nListening to God’s Voice: Just as Jeremiah emphasizes\, prioritize listening to God’s voice in your life over mere religious rituals or sacrifices.\nOpen Heart\, Open Ears: The Psalmist urges us not to harden our hearts but to remain open to God’s call. Keep your heart soft and receptive to His guidance.\nAvoiding Division: Jesus warns against division in Luke’s Gospel. Strive for unity within the body of Christ\, avoiding discord and promoting harmony among believers.\nPrioritizing Obedience: Choose obedience to God’s commands over outward displays of religious devotion. Let your actions align with His will.\nStrengthening Spiritual Foundations: By listening\, obeying\, and uniting with fellow believers\, you build a strong spiritual foundation that withstands challenges and remains rooted in God’s truth.\n\nMorning Prayer\nHeavenly Father\, Today\, help us to listen attentively to Your voice\, softening our hearts to Your guidance. Keep us united in love\, avoiding division and discord among us. May our actions reflect obedience to Your will\, prioritizing what truly matters in our faith journey. Guide us in building a strong spiritual foundation rooted in Your truth. Bless our day\, Lord\, as we seek to walk in unity and obedience with You. Amen. May the Almighty God Bless you\, the Father and the Son and the Holy Spirit. Amen \nFRIDAY OF THE THIRD WEEK OF LENT\n\nFirst reading: Hosea 14: 1-9\nPsalm: 81: 6—11\, 14\, 17 (I am the Lord your God: listen to my voice)\nGospel: Mark 12: 28-34\n\nA Brief Homily\nIn today’s readings\, we’re called to return to the Lord with repentant hearts. Hosea speaks of God’s longing for His people to return to Him and promises restoration for those who do. The Psalm echoes this plea\, urging us to listen to God’s warning and trust in His guidance. In Mark\, Jesus emphasizes the greatest commandment: to love God with all our heart\, soul\, mind\, and strength\, and to love our neighbor as ourselves. Let’s heed these calls to repentance\, love\, and obedience\, building our lives on the foundation of God’s unchanging love and wisdom. \nInspiration Message\n\nReturn to God: Like Hosea’s message\, we’re encouraged to return to God with repentant hearts\, knowing He eagerly awaits our return and offers restoration.\nListening to God’s Warning: The Psalm reminds us to heed God’s warnings and trust in His guidance\, recognizing His wisdom and care for us.\nLove God and Others: Jesus emphasizes the importance of loving God wholeheartedly and loving our neighbors as ourselves\, encapsulating the essence of Christian living.\nRepentance and Obedience: Embrace a lifestyle of repentance\, obedience\, and love\, knowing that through these actions\, we honor God and build our relationship with Him.\nTrusting in God’s Restoration: Trust in God’s promise of restoration and renewal for those who turn to Him\, believing in His faithfulness and mercy.\n\nMorning Prayer\nHeavenly Father\, Today\, we come before You with repentant hearts\, seeking Your forgiveness and restoration. Help us to listen to Your warnings and trust in Your guidance. Teach us to love You with all our hearts and to love others as ourselves. Grant us the grace to live lives of repentance\, obedience\, and love\, honoring You in all we do. Thank You for Your faithfulness and mercy. Amen. May the Almighty God Bless you\, the Father and the Son and the Holy Spirit. Amen \nSATURDAY OF THE THIRD WEEK OF LENT\n\nFirst reading: Hosea 6: 1-6\nPsalm:51: 3-4\, 18-21\, (I desire mercy\, and not sacrifice)\nGospel: Luke 18: 9-14\n\nA Brief Homily\nIn today’s readings\, we learn about the heart of true worship. Hosea emphasizes God’s desire for mercy and acknowledgment over ritual sacrifices. The Psalmist echoes this sentiment\, highlighting the importance of a contrite heart and genuine repentance. In Luke\, Jesus tells the parable of the Pharisee and the tax collector\, illustrating the value of humility and sincerity in prayer. True worship isn’t about outward displays but about the condition of our hearts. Let’s approach God with humility\, repentance\, and a sincere desire to love and serve Him and others. \nInspiration Message\n\nHeartfelt Worship: God values sincere worship from the heart over mere outward rituals or sacrifices.\nMercy and Acknowledgment: Hosea reminds us that God desires mercy and acknowledgment of Him rather than just religious practices.\nTrue Repentance: The Psalm emphasizes the importance of genuine repentance and a contrite heart in our relationship with God.\nHumility in Prayer: Jesus’ parable in Luke teaches us the importance of humility in prayer\, showing that sincerity matters more than status or outward appearances.\nFocus on Love: Ultimately\, God desires our love and devotion above all else. Let’s worship Him with genuine hearts\, showing love to Him and others in all we do.\n\nMorning Prayer\nHeavenly Father\, Today\, we come before You with humble hearts\, recognizing Your desire for sincere worship and genuine repentance. Help us to prioritize mercy\, acknowledgment\, and love in our relationship with You and others. Teach us to approach You with humility in prayer\, knowing that sincerity matters more than outward appearances. May our worship be pleasing to You\, O Lord\, as we seek to honor You with our hearts and lives. Amen. May the Almighty God Bless you\, the Father and the Son and the Holy Spirit. Amen \nFOURTH  SUNDAY OF LENT\n\nFirst reading: Joshua 5: 9-12\nPsalm: 34: 2-7 (Taste and see that the Lord is good!)\nSecond reading: 2 Corinthians 5: 17-21\nGospel: Luke 15: 1-3\, 11-32\n\nA Brief Homily\nToday’s Gospel brings us the powerful story of the Prodigal Son — a reminder of God’s endless mercy. The father didn’t just forgive; he ran to his lost son\, embraced him\, and celebrated his return. This is how God loves us — not with judgment\, but with joy when we repent. St. Paul reminds us that through Christ\, we are made new\, reconciled with God. No matter how far we stray\, He waits with open arms. Let’s embrace this chance to turn back\, receive His mercy\, and share that same forgiving love with those around us. God never gives up on us! \nInspiration Message\n\nGod’s mercy is greater than our sins: No matter how far we fall\, God is ready to forgive and welcome us back with love.\nTrue repentance leads to new beginnings: Like the Prodigal Son\, we can start again when we turn back to God with a sincere heart.\nWe are called to forgive others: Just as God forgives us\, we should show mercy to those who hurt us.\nGod celebrates our return: He doesn’t hold grudges — He rejoices when we come back to Him.\nWe are a new creation in Christ: Through Jesus\, we are made new and called to live differently — in love and reconciliation.\n\n Morning Prayer\nHeavenly Father\, thank You for Your endless mercy and love. Like the Prodigal Son\, I come to You\, seeking forgiveness and a fresh start. Help me to forgive others as You forgive me. Remind me that I am a new creation in Christ\, called to live with love\, compassion\, and peace. May my life reflect Your joy and grace\, and may I never forget how deeply You celebrate my return. Amen. May the Almighty God Bless you\, the Father and the Son and the Holy Spirit. Amen
URL:https://inspirational.co.ke/inspiration/third-week-of-lent/
CATEGORIES:Daily Post
END:VEVENT
END:VCALENDAR