BEGIN:VCALENDAR
VERSION:2.0
PRODID:-//INSPIRATION AND BIBLE REFLECTION - ECPv6.9.0//NONSGML v1.0//EN
CALSCALE:GREGORIAN
METHOD:PUBLISH
X-WR-CALNAME:INSPIRATION AND BIBLE REFLECTION
X-ORIGINAL-URL:https://inspirational.co.ke
X-WR-CALDESC:Events for INSPIRATION AND BIBLE REFLECTION
REFRESH-INTERVAL;VALUE=DURATION:PT1H
X-Robots-Tag:noindex
X-PUBLISHED-TTL:PT1H
BEGIN:VTIMEZONE
TZID:Africa/Nairobi
BEGIN:STANDARD
TZOFFSETFROM:+0300
TZOFFSETTO:+0300
TZNAME:EAT
DTSTART:20250101T000000
END:STANDARD
END:VTIMEZONE
BEGIN:VEVENT
DTSTART;VALUE=DATE:20250305
DTEND;VALUE=DATE:20250316
DTSTAMP:20260425T221209
CREATED:20250305T201810Z
LAST-MODIFIED:20250308T193244Z
UID:1869-1741132800-1742083199@inspirational.co.ke
SUMMARY:LENT SEASON YEAR C: ASH WEDNESDAY TO SATURDAY OF FIRST WEEK
DESCRIPTION:LENT SEASON YEAR C\nFIRST SUNDAY OF LENT YEAR C\n\nFirst reading: Deuteronomy 26: 4-10\nPsalm:91: 1-2\, 10-15 (Be with me\, O Lord\, when I am in distress)\nSecond reading: Romans 10: 8-13\nGospel: Luke 4: 1-13\n\n Brief Homily\nThe First Sunday of Lent reminds us of Jesus’ victory over temptation. In the desert\, Satan tried to lead Him astray\, but Jesus stood firm\, relying on God’s Word. Like Israel in the first reading\, we must remember God’s goodness and trust Him. Paul tells us that salvation is for all who believe in Jesus. Lent is our time in the desert—a time to reject sin\, grow in faith\, and trust God’s promises. When faced with trials\, let us follow Jesus’ example\, resist temptation\, and stand firm in God’s truth. With God\, we can overcome anything. \n Inspiration Message\n\nTemptation is part of life. Even Jesus faced it\, but He overcame it with God’s Word. We must resist by trusting in Him.\nFaith leads to salvation. Paul teaches that whoever calls on Jesus will be saved. Our faith should guide our daily lives.\nTrust in God’s provision. Like the Israelites\, we must always remember and rely on God’s goodness in our lives.\nLent is a time for renewal. It is a chance to let go of sin and grow closer to God through prayer\, fasting\, and charity.\nGod is always with us. In times of distress\, He remains our refuge and strength\, guiding and protecting us always.\n\nMorning Prayer\nHeavenly Father\, as I begin this day\, help me to walk in faith and trust in You. Strengthen me to resist temptation and follow Jesus’ example. May Your Word be my guide\, and may I always call on You in times of struggle. During this Lenten season\, purify my heart and help me grow in holiness. Be with me\, Lord\, and lead me closer to You each day. Amen. May the Almighty God Bless you\, the Father and the Son and the Holy Spirit. Amen \nMONDAY OF THE FIRST WEEK OF LENT\n\nFirst reading: Leviticus 19: 1-2\, 11-18\nPsalm:19: 8-10\, 15 (Your words\, O Lord\, are Spirit and Life)\nGospel: Matthew 25: 31-46\n\nBrief Homily\nToday’s readings remind us of God’s call to live a life of love and compassion. In Leviticus\, we’re urged to treat others with fairness and kindness. The Psalm tells us that God’s words bring us wisdom and guidance. And in Matthew’s Gospel\, Jesus teaches us about the importance of helping those in need. He tells us that when we care for others\, we’re caring for Him. Let’s strive to follow God’s commandments\, to love one another\, and to recognize the presence of Christ in everyone we meet. For in serving others\, we serve the Lord himself. \n Inspiration Message\n\nLove in Action: Treat others with fairness and kindness\, just as God instructs us in Leviticus. Show love through your actions\, not just your words.\nGuidance in God’s Words: Seek wisdom and guidance in God’s teachings\, for they offer direction and clarity in navigating life’s challenges. Let His words shape your decisions and actions.\nSeeing Christ in Others: Remember Jesus’ words in Matthew’s Gospel: when you help those in need\, you’re serving Him. Look for Christ in everyone you encounter\, and treat them with compassion and respect.\nLiving Out God’s Commandments: Strive to live according to God’s commandments\, which emphasize love for others. Actively seek opportunities to demonstrate kindness\, generosity\, and understanding.\nService as Worship: Understand that serving others is a form of worship. By caring for those in need\, you honor God and express gratitude for His blessings. Let your actions reflect your faith\, and let your service be a testament to God’s love in the world.\n\nMorning Prayer\nHeavenly Father\, as we begin this new day\, help us to remember Your call to love and serve others. May Your words guide our actions\, leading us to treat everyone with kindness and compassion. Open our eyes to see Your presence in those around us\, and empower us to live out Your commandments with joy and sincerity. Thank you for the opportunity to serve You through serving others. Amen. May the Almighty God Bless you\, the Father and the Son and the Holy Spirit. Amen \nTUESDAY OF THE FIRST WEEK OF LENT\n\nFirst reading: Isaiah 55: 10-11\nPsalm:34: 4-7\, 16-19 (The Lord rescues them in all their distress)\nGospel: Matthew 6: 7-15\n\nBrief Homily\nIn today’s readings\, we are reminded of the power of God’s word and the importance of prayer. Isaiah compares God’s word to rain that nourishes the earth\, showing how it accomplishes what He intends. The Psalm assures us that God rescues the righteous from distress. In Matthew’s Gospel\, Jesus teaches us to pray with sincerity\, not with fancy words. He emphasizes forgiveness\, linking it to our own forgiveness from God. These passages teach us to trust in God’s promises\, to pray earnestly\, and to extend forgiveness to others as we have been forgiven. \nInspiration Message\n\nGod’s Word Sustains: Just as rain nourishes the earth\, God’s word sustains us. Take time to read and reflect on Scripture daily\, trusting in its power to guide and strengthen you.\nDivine Rescue: God is our ultimate rescuer. In times of trouble\, turn to Him in prayer\, knowing that He hears and delivers the righteous from distress.\nSincerity in Prayer: Jesus teaches us to pray sincerely\, focusing on the heart rather than elaborate words. Speak to God honestly\, sharing your joys\, worries\, and needs with Him.\nForgiveness: Just as we seek forgiveness from God\, we must also forgive others. Let go of grudges and resentments\, following Jesus’ example of love and reconciliation.\nTrust in God’s Love: Have faith in God’s unwavering love and faithfulness. No matter the challenges you face\, know that He is with you\, guiding you through every storm.\n\nMorning Prayer\nHeavenly Father\, as we begin this new day\, we thank You for Your sustaining word and promise of rescue. Help us to pray sincerely from the heart\, trusting in Your love and forgiveness. Grant us the strength to forgive others as You forgive us. May we live today with faith in Your unwavering presence and guidance. Amen. May the Almighty God Bless you\, the Father and the Son and the Holy Spirit. Amen \nWEDNESDAY OF THE FIRST WEEK OF LENT\n\nFirst reading: Jonah 3: 1-10\nPsalm:51: 3-4\, 12-13\, 18-19 (A broken and humbled heart\, O God\, you will not spurn)\nGospel: Luke 11: 29-32\n\nBrief Homily\nIn today’s readings\, we encounter the theme of repentance and God’s mercy. Jonah delivers a message of repentance to the people of Nineveh\, and they respond by turning away from their sinful ways. The Psalm expresses the desire for a contrite heart\, knowing that God accepts those who come to Him humbly. In Luke’s Gospel\, Jesus speaks about the need for repentance and warns against seeking signs instead of embracing faith. These passages remind us of the importance of acknowledging our faults\, turning to God with contrition\, and trusting in His mercy and forgiveness. \nInspiration Message\n\nMessage of Repentance: Like the people of Nineveh\, we’re called to repent from our sins and turn towards God.\nHumble Heart: Approach God with a contrite and humble heart\, for He welcomes those who seek Him sincerely.\nTrust in God’s Mercy: Know that God’s mercy is boundless. He forgives those who repent and turn to Him\, regardless of past mistakes.\nActions Speak Louder: Repentance isn’t just about words; it’s about a change in actions. Let your life reflect your commitment to following God’s ways.\nFaith Over Signs: Instead of seeking miraculous signs\, cultivate faith in God’s presence and guidance. Trust in His plan for your life and follow His teachings with conviction.\n\n Morning Prayer\nHeavenly Father\, as we begin this day\, we humbly come before You\, acknowledging our faults and seeking Your mercy. Grant us the grace to repent from our sins and turn towards You wholeheartedly. Help us to live with contrite hearts\, showing our commitment through actions of love and obedience. May we trust in Your abundant mercy and follow Your path with faith\, knowing that You are always with us. Amen. May the Almighty God Bless you\, the Father and the Son and the Holy Spirit. Amen \nTHURSDAY OF THE FIRST WEEK OF LENT\n\nFirst reading: Esther 14: 1\, 3-4\, 11\, 13-14\nPsalm:138: 1-3\, 7-8 (On the day I called\, you answered me\, O Lord)\nGospel: Matthew 7: 7-12\n\nBrief  Homily – Trust in God’s Help \nQueen Esther\, in deep distress\, turned to God in prayer\, trusting Him to save her people. Her story reminds us that when we call on God with faith\, He listens and answers. In the Gospel\, Jesus encourages us to ask\, seek\, and knock—God is always ready to help. However\, we must also treat others with kindness and love\, just as we wish to be treated. This Lent\, let us deepen our prayer life\, trust in God’s timing\, and extend mercy to others\, knowing that He cares for us and always provides what we truly need. \nInspiration Message\n\nPrayer brings strength – Like Queen Esther\, when we face troubles\, we should turn to God in sincere prayer\, knowing He listens and responds.\nGod answers when we ask – Jesus assures us that when we ask\, seek\, and knock with faith\, God will provide what we truly need.\nTrust in God’s timing – Sometimes\, God’s answers are not immediate\, but He always works for our good in His perfect time.\nTreat others with kindness – Jesus teaches us to treat people the way we want to be treated\, spreading love and mercy.\nLent is a time of faith and action – It is a season to pray more\, trust more\, and show love in our daily lives.\n\nMorning Prayer\nHeavenly Father\, I come before You this morning with a heart full of trust. Like Queen Esther\, I seek Your strength in my challenges. Lord\, You promise to answer when we ask\, seek\, and knock—help me to trust in Your perfect timing. Fill my heart with kindness so I may treat others with love. As I journey through Lent\, guide me to grow in faith and action. Amen. May the Almighty God Bless you\, the Father and the Son and the Holy Spirit. Amen \nFRIDAY OF THE FIRST WEEK OF LENT\n\nFirst reading: Ezekiel 18: 21-28\nPsalm:130: 1-8 (If you\, O Lord\, should mark iniquities\, Lord\, who could stand?)\nGospel: Matthew 5: 31-46\n\nBrief Homily\nIn today’s readings\, we’re reminded of God’s justice and mercy. Ezekiel emphasizes personal responsibility\, stating that those who turn from sin will live\, while the wicked will face consequences. The Psalmist reflects on the depth of God’s forgiveness\, acknowledging that if God were to judge strictly\, no one could stand. In Matthew’s Gospel\, Jesus urges us to reconcile with others before offering our gifts at the altar. These passages call us to repentance\, reminding us of God’s mercy and the importance of forgiveness and reconciliation in our relationships. \nInspiration Message\n\nPersonal Responsibility: Understand that we are accountable for our actions before God. Choose to turn away from sin and embrace a life of righteousness.\nGod’s Mercy: Recognize the depth of God’s forgiveness and mercy. Even though we may fall short\, God’s love is greater\, offering us the chance to repent and start anew.\nHumility in Judgment: Realize that if God were to judge strictly\, none of us could stand. Let this humble us and foster compassion and forgiveness towards others.\nReconciliation Matters: Prioritize reconciliation in relationships. Jesus teaches us that it’s essential to resolve conflicts and seek forgiveness before offering our gifts to God.\nLive in Harmony: Strive to live in harmony with others\, practicing forgiveness and reconciliation. Let love and understanding guide your interactions\, reflecting God’s mercy and grace in your life.\n\nMorning Prayer\nHeavenly Father\, as we start this day\, we thank You for Your mercy and forgiveness. Help us to take responsibility for our actions and turn away from sin. Teach us to show compassion and forgiveness to others\, just as You have forgiven us. Guide us to reconcile any conflicts and live in harmony with one another. May our lives reflect Your love and grace. Amen. May the Almighty God Bless you\, the Father and the Son and the Holy Spirit. Amen \nSATURDAY OF THE FIRST WEEK OF LENT\n\nFirst reading: Deuteronomy 26: 16-19\nPsalm:119: 1-2\, 4-5\, 7-8 (Blessed are those who walk in the law of the Lord!)\nGospel: Matthew 5: 43-48\n\nBrief Homily\nIn today’s readings\, we’re called to live in accordance with God’s law of love and righteousness. In Deuteronomy\, God commands His people to follow His statutes faithfully\, promising blessings for obedience. The Psalm echoes this\, proclaiming the happiness of those who walk in the ways of the Lord. In Matthew’s Gospel\, Jesus challenges us to love even our enemies\, mirroring God’s unconditional love for all. As followers of Christ\, we’re called to embody this radical love\, surpassing mere adherence to rules. Let’s strive to love like God loves\, embracing all with compassion and forgiveness. \nInspiration Message\n\nFollow God’s Commandments: Obeying God’s commandments brings blessings and happiness. Let’s make it a priority to follow His ways in our daily lives.\nWalking in God’s Path: Choosing to live according to God’s law leads to fulfillment and joy. Let’s strive to walk in His path\, seeking His guidance in all we do.\nLove Everyone: Jesus teaches us to love not only our friends but also our enemies. Let’s show love and kindness to everyone\, reflecting God’s unconditional love for all.\nRadical Love: Our love should go beyond what is expected. Let’s emulate God’s radical love by showing compassion and forgiveness to everyone\, regardless of circumstances.\nBe Like God: As Christians\, we’re called to mirror God’s character. Let’s aim to love like God loves\, embodying His love and grace in our interactions with others.\n\nMorning Prayer\nHeavenly Father\, as we begin this new day\, help us to follow Your commandments and walk in Your ways. Grant us the strength to love others\, even those who may not treat us kindly. Teach us to show compassion and forgiveness to everyone we encounter. May our actions reflect Your radical love and bring joy to those around us. Guide us\, Lord\, to be more like You in all we do. Amen. May the Almighty God Bless you\, the Father and the Son and the Holy Spirit. Amen
URL:https://inspirational.co.ke/inspiration/lent-season-year-c-ash-wednesday-to-saturday-of-first-week/
CATEGORIES:Daily Post
END:VEVENT
END:VCALENDAR