BEGIN:VCALENDAR
VERSION:2.0
PRODID:-//INSPIRATION AND BIBLE REFLECTION - ECPv6.9.0//NONSGML v1.0//EN
CALSCALE:GREGORIAN
METHOD:PUBLISH
X-WR-CALNAME:INSPIRATION AND BIBLE REFLECTION
X-ORIGINAL-URL:https://inspirational.co.ke
X-WR-CALDESC:Events for INSPIRATION AND BIBLE REFLECTION
REFRESH-INTERVAL;VALUE=DURATION:PT1H
X-Robots-Tag:noindex
X-PUBLISHED-TTL:PT1H
BEGIN:VTIMEZONE
TZID:Africa/Nairobi
BEGIN:STANDARD
TZOFFSETFROM:+0300
TZOFFSETTO:+0300
TZNAME:EAT
DTSTART:20250101T000000
END:STANDARD
END:VTIMEZONE
BEGIN:VEVENT
DTSTART;VALUE=DATE:20250222
DTEND;VALUE=DATE:20250303
DTSTAMP:20260425T221120
CREATED:20250222T071508Z
LAST-MODIFIED:20250222T071508Z
UID:1849-1740182400-1740959999@inspirational.co.ke
SUMMARY:THE SEVENTH WEEK IN ORDINARY TIME
DESCRIPTION:SEVENTH SUNDAY IN ORDINARY TIME\n\nFirst reading: 1st Samuel 26:2\, 7-9\, 12-13\, 22-23\nPsalm: 103:1-4\, 8\, 10\, 12-13 (The Lord is kind and merciful)\nSecond reading: 1st Corinthians 15:45-49\nGospel: Luke 6:27-38\n\nA Brief Homily\nToday’s readings call us to love our enemies and show mercy. David had the chance to kill Saul but chose mercy over revenge. Jesus teaches us to love\, forgive\, and give without expecting anything in return. This is not weakness but strength—reflecting God’s love. St. Paul reminds us that we are made in the image of Christ\, called to live with kindness. True discipleship is shown in how we treat others. Let us ask God for the grace to love even when it’s difficult\, trusting that His mercy will always sustain us. Amen. \n Inspiration Message\n\nChoose Mercy Over Revenge – Like David spared Saul\, we should forgive those who hurt us. Mercy brings peace\, while revenge only creates more pain.\nLove Even When It’s Hard – Jesus teaches us to love our enemies. This doesn’t mean agreeing with them but treating them with kindness and respect.\nGive Without Expecting Back – True love and generosity are shown when we give freely\, just as God gives to us.\nReflect Christ in Your Actions – St. Paul reminds us that we are made in Christ’s image\, so we should act with kindness and patience.\nTrust in God’s Reward – When we love\, forgive\, and give\, God sees our efforts and blesses us beyond what we expect.\n\nMorning Prayer\nLoving Father\, thank You for a new day. Fill my heart with mercy\, that I may forgive as David forgave Saul. Teach me to love\, even when it is hard\, and to give without expecting anything in return. Help me reflect Christ in my actions\, showing kindness and patience to all. I trust in Your blessings and the reward of living in Your love. Guide me today in Your peace. Amen. May the almighty God bless you\, The Father and The Son and The Holy Spirit. Amen \n MONDAY OF THE 7TH WEEK IN ORDINARY TIME\n\nFirst reading: Sirach 1:1-10\nPsalm: 93: 1-2\, 5 (The Lord is King; he is robed in majesty)\nGospel: Mark 9:14-29\n\nA Brief Homily\nToday’s readings remind us of God’s wisdom and power. Sirach tells us that all wisdom comes from God; it is beyond human understanding. The Gospel shows Jesus healing a boy possessed by a spirit\, teaching us that faith and prayer can overcome even the most difficult challenges. When the disciples struggled\, Jesus reminded them that only through deep faith and prayer can miracles happen. In our lives\, when we face struggles\, doubts\, or fears\, let us turn to God in prayer. With faith\, nothing is impossible. Trust in God’s wisdom and power\, and He will guide you. Amen. \n Inspiration Message\n\nSeek God’s Wisdom – True wisdom comes from God\, not from the world. Pray and read His Word to gain understanding in life.\nHave Strong Faith – Even in tough times\, trust in God’s power. Faith opens the door for miracles in your life.\nPray Without Ceasing – Jesus reminds us that some challenges can only be overcome through prayer. Make prayer a daily habit.\nTrust God’s Timing – When things don’t happen immediately\, don’t lose hope. God works in His perfect time.\nFace Problems with God’s Strength – Instead of worrying\, surrender your struggles to God. He will guide and help you.\n\nMorning Prayer\nHeavenly Father\, I thank You for the gift of a new day. Fill me with Your wisdom to make the right choices. Strengthen my faith to trust in You\, even in difficult times. Teach me to pray always and rely on Your power. Help me to be patient and trust Your perfect timing. May I face every challenge today with courage\, knowing You are with me. In Jesus’ name\, I pray. Amen. May the almighty God bless you\, The Father and The Son and The Holy Spirit. Amen \n TUESDAY OF THE 7TH WEEK IN ORDINARY TIME\n\nFirst reading: Sirach 2: 1-11\nPsalm: 37: 3-4\, 18-19\, 27-28\, 39-40 (Commit your life to the Lord\, and he will help you)\nGospel: Mark 9: 30-37\n\nA Brief Homily\nLife is full of challenges\, but Sirach reminds us to remain strong and trust in God when trials come. Hard times test our faith\, but God never abandons those who rely on Him. The Psalm encourages us to commit our lives to the Lord\, for He is our refuge. In the Gospel\, Jesus teaches humility—true greatness comes from serving others\, especially the weak and the small. As Christians\, let us trust in God\, remain humble\, and serve with love\, knowing He is always with us in every situation. Amen. \n Inspiration Message\n\nStay Strong in Trials – Life has struggles\, but trust in God. He will guide and strengthen you in difficult times.\nTrust in God’s Plan – He never abandons His people. Keep your faith even when you don’t understand His ways.\nBe Humble – True greatness is not about power but about serving others with love\, just like Jesus taught.\nHelp the Weak – Care for those in need\, especially the vulnerable. Small acts of kindness matter.\nLet God Lead You – Surrender your worries to Him. He knows what is best and will never fail you.\n\nMorning Prayer\nHeavenly Father\, I thank You for this new day. Strengthen me in times of trials and help me trust in Your plan. Teach me to be humble and to serve others with love. Fill my heart with kindness so I may help those in need. Guide my steps and lead me in Your ways. I surrender my worries to You\, knowing You will never fail me. Amen. May the almighty God bless you\, The Father and The Son and The Holy Spirit. Amen \n WEDNESDAY OF THE 7TH WEEK IN ORDINARY TIME\n\nFirst reading: Sirach 4: 11-19\nPsalm: 119: 165\, 168\, 171-172\, 174-175 (O Lord\, great peace have they who love your law)\nGospel: Mark 9: 38-40\n\nA Brief Homily\nWisdom leads us to life. Sirach reminds us that those who love wisdom will receive God’s blessings and guidance. In the Gospel\, Jesus teaches us openness and unity. The disciples wanted to stop a man casting out demons in Jesus’ name because he was not part of their group. But Jesus corrects them\, saying\, “Whoever is not against us is for us.” \nAs Christians\, we must avoid division and jealousy. Instead\, we should encourage and support all good works\, even if they come from unexpected places. Let us embrace wisdom\, humility\, and unity in serving God. Amen. \nInspiration Message\n\nSeek Wisdom Daily – True wisdom comes from God. If we love wisdom\, we will receive guidance\, protection\, and blessings in our lives.\nAvoid Jealousy and Division – Instead of stopping others from doing good\, we should support and encourage them. God’s work is bigger than any one group.\nBe Open to God’s Surprises – God can use anyone to do His work\, even those we don’t expect. We should recognize and celebrate good wherever we see it.\nStay Humble in Serving God – True disciples do not seek personal glory but work for the glory of God.\nPromote Unity in Faith – Jesus calls us to be united\, not divided. Let’s work together in spreading love and goodness.\n\nMorning Prayer\nHeavenly Father\, thank You for this new day. Fill my heart with Your wisdom and guide my steps in truth. Help me to avoid jealousy and division\, and to celebrate the good in others. Keep me humble in serving You\, always seeking unity and love. Open my heart to Your surprises and lead me in Your ways. May my words and actions glorify You today. Amen. May the almighty God bless you\, The Father and The Son and The Holy Spirit. Amen \n THURSDAY OF THE 7TH WEEK IN ORDINARY TIME\n\nFirst reading: Sirach 5:1-8\nPsalm: 1-1- 4\,6 (Blessed are they who hope in theLord)\nGospel: Mark 9:41-50\n\nA Brief Homily\nToday’s readings remind us to put our trust in God\, not in wealth or power. Sirach warns against arrogance and delaying repentance\, reminding us that God’s mercy is great\, but so is His justice. The Gospel challenges us to remove anything that leads us to sin\, even if it is difficult. Jesus calls us to be holy\, avoiding anything that harms our souls. Let us strive to be true followers of Christ\, trusting in God\, living righteously\, and supporting one another in faith. May we choose God daily and reject anything that draws us away from Him. Amen. \n Inspiration Message\n\nTrust in God\, Not in Wealth – Earthly riches will fade\, but God’s blessings last forever. Put your hope in Him\, not in money or power.\nRepent Without Delay – Don’t wait to turn back to God. Seek His mercy now and live according to His will.\nRemove Sinful Influences – Anything that leads you to sin should be removed from your life\, even if it is hard.\nBe a Light to Others – Help those in need\, encourage holiness\, and live as a good example for others.\nStay Faithful to Christ – Stay strong in your faith\, even in difficulties\, knowing that God rewards those who follow Him.\n\nMorning Prayer\nHeavenly Father\, thank You for this new day. Help me to trust in You\, not in worldly things. Give me the courage to turn away from sin and seek Your mercy always. Strengthen me to remove anything that leads me away from You. May my words and actions shine Your light to others. Keep me faithful in all trials\, knowing that Your love and blessings are eternal. Amen. May the almighty God bless you\, The Father and The Son and The Holy Spirit. Amen \n FRIDAY OF THE 7TH WEEK IN ORDINARY TIME\n\nFirst reading: Sirach 6: 5-17\nPsalm: 93: 1-2\, 5 (Guide me\, Lord\, in the way of your commands)\nGospel: Mark 10: 1-12\n\nA Brief Homily\nFriendship and faithfulness are key themes in today’s readings. Sirach teaches us that true friends are rare treasures\, offering support and honesty. Jesus\, in the Gospel\, reminds us of God’s design for marriage—lifelong commitment and faithfulness. In a world where relationships are often broken\, we are called to be faithful to God and to one another. Whether in friendships or marriage\, love must be built on trust and selflessness. Let us ask God to help us be faithful in our relationships\, showing love\, patience\, and commitment\, just as He is always faithful to us. Amen. \n Inspiration Message\n\nTrue friendship is a blessing – Good friends support\, encourage\, and guide us in faith. Choose friends who bring you closer to God.\nFaithfulness is key in relationships – Whether in marriage\, family\, or friendships\, being faithful and committed brings lasting happiness.\nLove requires sacrifice – True love is not about feelings alone but about choosing to be patient\, forgiving\, and selfless every day.\nGod is always faithful – Even when we fail\, God remains true to His promises. Trust in His unchanging love.\nLive by God’s commandments – A life built on God’s word brings peace\, strength\, and lasting joy.\n\nMorning Prayer\nHeavenly Father\, thank You for the gift of a new day. Help me to choose good friends who will lead me closer to You. Teach me to be faithful in my relationships and to love with a selfless heart. Strengthen my trust in Your promises and guide me to live by Your commandments. May my actions today bring peace\, joy\, and honor to Your name. Amen. May the almighty God bless you\, The Father and The Son and The Holy Spirit. Amen \n SATURDAY OF THE 7TH WEEK IN ORDINARY TIME\n\nFirst reading: Sirach 17: 1-15\nPsalm: 103: 13-18 (Lord’s mercy is from age to age\, toward those who fear him)\nGospel: Mark 10: 13- 18\n\nA Brief Homily\nToday’s readings remind us of God’s love and our call to follow Him. Sirach teaches that God created us with wisdom and gave us the ability to choose right from wrong. The Psalm reassures us that God’s mercy lasts forever for those who trust Him. In the Gospel\, Jesus welcomes children\, showing us the importance of humility and trust. He reminds us that only by having childlike faith can we enter God’s kingdom. Let us approach God with open hearts\, love others sincerely\, and walk in His ways daily. Amen. \n Inspiration Message\n\nGod Created You with Purpose – Sirach reminds us that God made us with wisdom and understanding. Live each day knowing that you are created for a reason.\nTrust in God’s Mercy – The Psalm assures us that God’s love lasts forever. No matter our mistakes\, we can always return to Him with a sincere heart.\nBe Humble Like a Child – Jesus teaches that humility and trust are key to entering God’s kingdom. Rely on Him with a pure and open heart.\nChoose Goodness Every Day – God has given us free will. Make decisions that reflect His love and truth.\nWelcome Others with Love – Just as Jesus welcomed children\, we should embrace others with kindness\, patience\, and compassion.\n\nMorning Prayer\nHeavenly Father\, thank You for creating me with love and purpose. Your mercy is endless\, and I trust in Your guidance today. Help me to be humble like a child\, to make good choices\, and to show kindness to everyone I meet. Fill my heart with Your wisdom and lead me in the path of righteousness. May my words and actions reflect Your love. I surrender this day to You. Amen. May the almighty God bless you\, The Father and The Son and The Holy Spirit. Amen \n EIGHT SUNDAY IN ORDINARY TIME\n\nFirst reading: Sirach 27:4-7\nPsalm: 92: 2-3\, 13-14\, 15-16 (Lord\, it is good to give thanks to you)\nSecond reading: 1st Corinthians 15: 54-58\nGospel: Luke 6:39-45\n\nA Brief Homily\nToday’s readings remind us that our words and actions reveal what is in our hearts. Sirach tells us that just as a tree’s fruit shows its care\, our speech shows our character. Jesus warns against hypocrisy—before correcting others\, we must examine our own lives. St. Paul encourages us to stay strong in faith\, knowing our labor in Christ is not in vain. As Christians\, we must fill our hearts with goodness so that our words bring love\, healing\, and encouragement. Let us seek God’s wisdom and live as true witnesses of His grace. Amen. \n Inspiration Message\n\nYour words reveal your heart – Speak with kindness and truth because your words show who you truly are. Fill your heart with God’s love so that goodness flows from your mouth.\nAvoid judging others harshly – Before correcting others\, first examine your own life. Seek to grow in holiness instead of focusing on others’ faults.\nLive with integrity – Just like a healthy tree produces good fruit\, a faithful Christian should show love\, patience\, and honesty in daily life.\nStay strong in faith – Even when challenges come\, trust that your efforts in serving God will be rewarded.\nBe a light to others – Let your life be a testimony of God’s goodness\, inspiring those around you to seek Him.\n\nMorning Prayer\nHeavenly Father\, thank You for this new day. Fill my heart with Your love so that my words and actions reflect Your goodness. Help me to avoid judging others and to live with integrity. Strengthen my faith in times of trials and guide me to bear good fruits in all I do. Let my life be a light that draws others closer to You. I trust in Your grace always. Amen. May the almighty God bless you\, The Father and The Son and The Holy Spirit. Amen
URL:https://inspirational.co.ke/inspiration/the-seventh-week-in-ordinary-time/
CATEGORIES:Daily Post
END:VEVENT
END:VCALENDAR